{"text_format":"1","workbook":"xlsx","n_sheets":5,"sheets":["Start","Berechnung","BezWert","AELV","Beiträge LU"],"not_rendered":{"charts":0,"images":1,"macros":1,"external_links":0,"defined_names":27,"comments":0,"pivot_tables":0},"unopened":[],"bounds":{"document_bytes":16777216,"sheet_cells":100000,"rows_first":2000,"rows_last":500,"rows_between":2000,"halvings":0,"cell_chars":16384,"cell_head_chars":4096},"cells_cut":0,"cells_raw":0,"read":"whole","date_system":"1900"}

{"sheet":"Start","index":0,"n_rows":41,"n_cols":10,"rows_kept":41,"cut":false,"hidden":true,"merged":[]}
["Sozialversicherung für Landwirtschaft, Forsten und Gartenbau"]
[]
["Beitragsrechner für Krankenkassenbeiträge der landwirtschaftliche Unternehmer"]
[]
["Die Beiträge für landwirtschaftliche Unternehmer berechnen sich bei der LKK nach dem korrigierten Flächenwert."]
[]
["Dieser wird aus","- der Flächengröße des Unternehmens,"]
[null,"- dem Hektarwert der Betriebssitzgemeinde (Ortsteil) und ggf. eines Multiplikators oder festen Hektarwerts für Sonderkulturen sowie"]
[null,"- dem Beziehungswert der jeweils aktuellen \"Einkommensverordnung Landwirtschaft\" (AELV)"]
["berechnet. Der \"Beziehungswert\" der AELV ergeben sich aus dem fünfjährigen Durchschnitt der Gewinne der für den Agrarbericht der Bundesregierung"]
["ausgewerteten landwirtschaftlichen Testbetriebe sowie der Flächengröße dieser Betriebe."]
[]
["Mit Hilfe dieses Beitragsrechners können Sie die Beitragshöhe in der landw. Krankenversicherung ermitteln. Das Ergebnis dient Ihrer allgemeinen "]
["Information. Besonderheiten, wie z.B. die Berechnung bei Unternehmensbeteiligungen, berücksichtigt diese Berechnungshilfe nicht."]
["Rufen Sie uns dazu bitte an, wir beraten Sie gern."]
[]
["Funktion: ","Bitte geben Sie die jeweiligen Flächengrößen und den durchschnittlichen Hektarwert der Betriebssitzgemeinde auf dem Tabellenblatt "]
[null,"\"Berechnung\" ein."]
[]
[]
[]
[]
[]
[]
[]
[]
[]
[]
[]
[]
[]
[]
[]
[]
[]
[]
[]
[]
[]
[]
["http://www.svlfg.de",null,null,null,null,null,null,null,null,{"$f":"\"gedruckt \" & TEXT(TODAY(),\"TT.MM.JJJJ\")","v":"gedruckt 15.12.2022"}]

{"sheet":"Berechnung","index":1,"n_rows":26,"n_cols":16,"rows_kept":26,"cut":false,"hidden":false,"merged":[[0,0,0,15],[17,4,17,5],[18,4,18,5],[7,4,7,5],[2,10,19,10],[1,4,1,5],[19,4,19,5],[1,6,1,7],[11,4,11,5],[8,4,8,5],[12,17,12,24],[9,17,9,24],[4,17,4,22],[2,15,19,15],[1,0,1,2],[2,14,19,14],[3,12,18,12],[3,8,18,8],[19,6,19,7],[3,4,3,5],[3,7,18,7],[3,9,18,9],[3,11,18,11],[16,4,16,5],[10,4,10,5],[1,11,1,12]]}
[{"$f":" \"Beitragsberechnung für landw. Unternehmer bei der Landwirtschaflichen Krankenkasse ab \" & RIGHT(A23,10)","v":"Beitragsberechnung für landw. Unternehmer bei der Landwirtschaflichen Krankenkasse ab 01.01.2023"}]
["Fläche",null,null,null,"ha-Wert",null,"Flächenwert",null,null,"Beziehungswert",null,"korrigierter Flächenwert",null,null,"BKL","KV-Beitrag"]
[" Landw. Nutzfläche\n 002, 006, 008, 045, 046, 069,\n 071, 072, 153, 378","Hektar",null,"x","durchnittl. ha-Wert der Betriebssitzgemeinde für LN",null,{"$f":"IF(AND(SUM(C3,C5:C6,C10,C13:C15)>0,F3=\"\"),\"Bitte Hektarwert eintragen\",IF(C3>0,C3*F3,0))","v":0},null,null,null,"=",null,null,null,{"$f":"IF(AND(L4=\"\",L20=\"\"),\"\",IF(AND(L20=\"\",L4<>\"\"),VLOOKUP(L4,'Beiträge LU'!B9:I27,8),IF(L4+L20>0,VLOOKUP(L4+L20,'Beiträge LU'!B9:I27,8),0)))","v":0},{"$f":"IF(AND(J4=\"\",G20=\"\"),\"\",IF(O3>0,VLOOKUP(O3,'Beiträge LU'!A9:D27,4),0))","v":""}]
["Grünland mit niedrigstem Ertrag\n(Almen, Alpen, Hutungen, nicht/mobil umzäunte Schaf-/Ziegenweiden, Deich- und Hallignutzungen),  010","Hektar",null,"x",150,null,{"$f":"IF(C4>0,C4*E4,0)","v":0},{"$f":"IF(OR(ISTEXT(G16),ISTEXT(G3)),\"Hektarwert(e) fehlen\",SUM(G3:G19))","v":0},"x",{"$f":"IF(H4> 0,BZW,\"\")","v":""},null,{"$f":"IF(J4 <> \"\",BezWert!E5,0)","v":0},{"$f":"IF(OR(L20=0,L20=\"\"),L4,IF(AND(L4>0,L20>0),\"inkl. Forst \"&DOLLAR(L20+L4,2),\"nur Forst \"&L20))","v":0}]
[" Gemüse- und Obstbau mit \n mechanischer Ernte (Freiland),\n Blumen zum Selbstschneiden\n 310, 395, 537, 903","Hektar",null,"x","durchnittl. ha-Wert der Betriebssitzgemeinde für LN;\nmultipliziert mit 4,31",{"$f":"IF(ISERROR($F$3*4.31)= TRUE,\"\",$F$3*4.31)","v":0},{"$f":"IF(C5>0,C5*F5,0)","v":0}]
[" Gemüsebau mit \n händischer Ernte (Freiland)\n 032, 311, 312","Hektar",null,"x","durchnittl. ha-Wert der Betriebssitzgemeinde für LN;\nmultipliziert mit 7,04",{"$f":"IF(ISERROR($F$3*7.04)= TRUE,\"\",$F$3*7.04)","v":0},{"$f":"IF(C6>0,C6*F6,0)","v":0}]
["Baum- und Beerenobst\n023, 035","Hektar",null,"x","durchnittl. ha-Wert der Betriebssitzgemeinde für LN;\nmultipliziert mit 4,45",{"$f":"IF(ISERROR($F$3*4.45)= TRUE,\"\",$F$3*4.45)","v":0},{"$f":"IF(C7>0,C7*F7,0)","v":0}]
[" Gemüsebau mit \n händischer Ernte\n (Unterglas nicht heizbar)\n 084, 384","Hektar",null,"x",68912.37000000001,null,{"$f":"IF(C8>0,C8*E8,0)","v":0}]
[" Gemüsebau mit \n händischer Ernte\n (Unterglas heizbar), 107","Hektar",null,"x",101216.79,null,{"$f":"IF(C9>0,C9*E9,0)","v":0}]
[" Blumen- u. Zierpflanzen\n (Freiland)\n 038, 146","Hektar",null,"x","durchnittl. ha-Wert der Betriebssitzgemeinde für LN;\nmultipliziert mit 22,41",{"$f":"IF(ISERROR($F$3*22.41)= TRUE,\"\",$F$3*22.41)","v":0},{"$f":"IF(C10>0,C10*F10,0)","v":0}]
[" Blumen- u. Zierpflanzen\n (Unterglas nicht heizbar)\n 382","Hektar",null,"x",71855.91,null,{"$f":"IF(C11>0,C11*E11,0)","v":0}]
[" Blumen- u. Zierpflanzen\n (Unterglas heizbar)\n 105","Hektar",null,"x",152225.72999999998,null,{"$f":"IF(C12>0,C12*E12,0)","v":0}]
[" Baum- und Rebschulen\n 031, 036","Hektar",null,"x","durchnittl. ha-Wert der Betriebssitzgemeinde für LN;\nmultipliziert mit 12,4",{"$f":"IF(ISERROR($F$3*12.4)= TRUE,\"\",$F$3*12.4)","v":0},{"$f":"IF(C13>0,C13*F13,0)","v":0}]
[" Christbaumkulturen\n 013","Hektar",null,"x","durchnittl. ha-Wert der Betriebssitzgemeinde für LN;\nmultipliziert mit 2,15",{"$f":"IF(ISERROR($F$3*2.15)= TRUE,\"\",$F$3*2.15)","v":0},{"$f":"IF(C14>0,C14*F14,0)","v":0}]
[" Hopfen und Tabak\n 029, 030","Hektar",null,"x","durchnittl. ha-Wert der Betriebssitzgemeinde für LN;\nmultipliziert mit 3",{"$f":"IF(ISERROR($F$3*3)= TRUE,\"\",$F$3*3)","v":0},{"$f":"IF(C15>0,C15*F15,0)","v":0}]
[" Weinbau\n 021, 902","Hektar",null,"x","durchnittl. ha-Wert der Betriebssitzgemeinde für Wein",null,{"$f":"IF(AND(C16>0,F16=\"\"),\"Bitte Hektarwert Wein eintragen\",IF(C16>0,C16*F16,0))","v":0}]
[" Wanderschäferei\n 041","Großtiere",null,"x",20,null,{"$f":"IF(C17>0,C17*E17,0)","v":0}]
[" Imkerei\n 060","Bienenvölker",null,"x",50,null,{"$f":"IF(C18>0,C18*E18,0)","v":0}]
[" Teichwirtschaft, \n Fischzucht,  \n Binnenfischerei,\n 050, 057, 065","Arbeitstage",null,"x",40,null,{"$f":"IF(C19>0,C19*E19,0)","v":0}]
[" Forst\n 011, 075","Hektar",null,"x",150,null,{"$f":"IF(C20>0,C20*E20,\"\")","v":""},null,{"$f":"IF(G20<>\"\",\":\",\"\")","v":""},{"$f":"IF(G20<>\"\",1.95583,\"\")","v":""},null,{"$f":"IF(G20<>\"\",ROUND(G20/J20,2),0)","v":0}]
[]
[]
[{"$f":" \"Stand der Beitragstabelle: \" & TEXT('Beiträge LU'!E4,\"TT.MM.JJJJ\")","v":"Stand der Beitragstabelle: 01.01.2023"}]
[{"$f":" \"Beziehungwert ermittelt aus der \" &AELV!A1","v":"Beziehungwert ermittelt aus der AELV 2023"}]
["Sonderkulturmultiplikatoren ab 01.01.2021"]
[{"$f":"\"gedruckt \" & TEXT(TODAY(),\"TT.MM.JJJJ\")","v":"gedruckt 15.12.2022"}]

{"sheet":"BezWert","index":2,"n_rows":14,"n_cols":5,"rows_kept":14,"cut":false,"hidden":true,"merged":[]}
[]
[{"$f":"IF(WX>Grenzwert,\"Berechnung des Beziehungswertes nach § 1 Abs. 3 AELV (Anlage 3)\",\"Berechnung des Beziehungswertes nach § 1 Abs. 2 AELV (Anlage 1)\")","v":"Berechnung des Beziehungswertes nach § 1 Abs. 2 AELV (Anlage 1)"}]
[]
[null,null,null,"individueller Beziehungswert","individueller korrigierter FLW"]
["Suchbetrag",{"$f":"IF(C13>0,C13,Berechnung!H4)","v":0},null,{"$f":"IF(WX=0,\"\",IF(WX <= Grenzwert,BZW_WN-(((WX-WN)/1000)*(BZW_WN-BZW_WH)),IF(BZW_WN=BZW_WH,BZW_WH,(AE_WN+(((WX-WN)/(WH-WN))*(AE_WH-AE_WN)))/WX)))","v":""},{"$f":"IF(WX=0,0,ROUNDDOWN(WX*BZW,0))","v":0}]
[]
[]
[null,"Wirtschaft-/Flächenwert","Beziehungswerte","korrigierter Flächenwert"]
["darunter",{"$f":"IF(WX<=AELV_MIN,AELV_MIN,VLOOKUP(WX,AELV!$A$4:$B$100,1))","v":25000},{"$f":"VLOOKUP($B$9,AELV!$A$4:$B$100,2)","v":1.2605999999999999},{"$f":"$B$9*$C$9","v":31515}]
["darüber",{"$f":"IF(WX<=AELV_MIN,AELV_MIN,IF(WX>=AELV_MAX,AELV_MAX,INDEX(AELV!A4:A100,(MATCH(WX,AELV!A4:A1000,1)+1))))","v":25000},{"$f":"VLOOKUP($B$10,AELV!$A$4:$B$100,2)","v":1.2605999999999999},{"$f":"$B$10*$C$10","v":31515}]
[]
[]
["manueller Suchbetrag"]
["übersteuert den Suchbetrag aus \"Berechnung\", nach Benutzung auf 0,00 setzen!"]

{"sheet":"AELV","index":3,"n_rows":37,"n_cols":6,"rows_kept":37,"cut":false,"hidden":true,"merged":[[0,0,0,1],[2,0,2,1],[5,3,5,4],[4,3,4,4]]}
["AELV 2023"]
[]
["Aufsteigend"]
[25000,1.2605999999999999,null,"Grenzwert Anlage 1/3:",null,49000]
[26000,1.2478,null,"Minimal-Wert: ",null,{"$f":"MIN(A4:A100)","v":25000}]
[27000,1.2345999999999999,null,"Maximal-Wert: ",null,{"$f":"MAX(A4:A100)","v":500000}]
[28000,1.2212000000000001]
[29000,1.2077]
[30000,1.1940999999999999]
[31000,1.1806000000000001]
[32000,1.1671]
[33000,1.1537999999999999]
[34000,1.1406000000000001]
[35000,1.1275999999999999]
[36000,1.1148]
[37000,1.1021000000000001]
[38000,1.0896999999999999]
[39000,1.0774999999999999]
[40000,1.0654999999999999]
[41000,1.0538000000000001]
[42000,1.0422]
[43000,1.0308999999999999]
[44000,1.0198]
[45000,1.0089999999999999]
[46000,0.99829999999999997]
[47000,0.9879]
[48000,0.97770000000000001]
[49000,0.9677]
[100000,0.64270000000000005]
[150000,0.49230000000000002]
[200000,0.4032]
[250000,0.34360000000000002]
[300000,0.30070000000000002]
[350000,0.26819999999999999]
[400000,0.24260000000000001]
[450000,0.2218]
[500000,0.2046]

{"sheet":"Beiträge LU","index":4,"n_rows":32,"n_cols":9,"rows_kept":32,"cut":false,"hidden":true,"merged":[]}
["SVLFG"]
["Landwirtschaftliche Krankenkasse"]
[]
["Beitragstabelle für landwirtschaftliche Unternehmer ab",null,null,null,"2023-01-01",null,null,"VORLÄUFIG!!"]
[]
["BKL","korrigierter Flächenwert",null,"Beitrag","Beitrag Pflegekasse",null,"Gesamt"]
[null,"von","bis","Krankenkasse","Eltern","Kinderlose","Eltern","Kinderlose"]
[1,"Kleinunternehmer",null,114,19.84,22.12,{"$f":"D8+E8","v":133.84},{"$f":"D8+F8","v":136.12}]
[2,0,5600,115,20.010000000000002,22.31,{"$f":"D9+E9","v":135.01},{"$f":"D9+F9","v":137.31},{"$f":"A9","v":2}]
[3,{"$f":"C9+0.01","v":5600.01},11200,151,26.27,29.29,177.27,180.29,{"$f":"A10","v":3}]
[4,{"$f":"C10+0.01","v":11200.01},16800,180,31.32,34.92,211.32,214.92000000000002,4]
[5,16800.009999999998,22400,209,36.369999999999997,40.549999999999997,245.37,249.55,5]
[6,22400.01,28000,239,41.59,46.37,280.59000000000003,285.37,6]
[7,28000.01,33600,268,46.63,51.99,314.63,319.99,7]
[8,33600.01,39200,298,51.85,57.81,349.85,355.81,8]
[9,39200.01,44800,327,56.9,63.44,383.9,390.44,9]
[10,44800.01,50400,356,61.94,69.06,417.94,425.06,10]
[11,50400.01,56000,385,66.989999999999995,74.69,451.99,459.69,11]
[12,56000.01,61600,414,72.040000000000006,80.319999999999993,486.04,494.32,12]
[13,61600.01,67200,444,77.260000000000005,86.14,521.26,530.14,13]
[14,67200.009999999995,72800,473,82.3,91.76,555.29999999999995,564.76,14]
[15,72800.009999999995,78400,502,87.35,97.39,589.35,599.39,15]
[16,78400.009999999995,84000,532,92.57,103.21,624.56999999999994,635.21,16]
[17,84000.01,89600,561,97.61,108.83,658.61,669.83,17]
[18,89600.01,95200,590,102.66,114.46,692.66,704.46,18]
[19,95200.01,100800,620,107.88,120.28,727.88,740.28,19]
[20,100800.01,9999999999,692.24,120.45,134.29,812.69,826.53,20]
[]
[]
["Sandig 17.08.2022"]
["neue Tabelle HHPL 2023, plus 2%, BKL 20 unverändert"]
["PV-Beiträge unter absolutem Vorbehalt, da noch alle Basiswerte vorläufig (Zusatzbeitragssatz, PV-Beitragssatz, BMG, Bezugsgröße …)"]